BEGIN:VCALENDAR
VERSION:2.0
PRODID:-//wp-events-plugin.com//7.2.3.1//EN
TZID:America/Indiana/Indianapolis
X-WR-TIMEZONE:America/Indiana/Indianapolis
BEGIN:VEVENT
UID:39@indianawidowssons.com
DTSTART;TZID=America/Indiana/Indianapolis:20230715T090000
DTEND;TZID=America/Indiana/Indianapolis:20230715T180000
DTSTAMP:20230606T204044Z
URL:https://indianawidowssons.com/events/solomons-riders-chapter-charity-p
 oker-ride/
SUMMARY:Solomon's Riders Chapter - Charity Poker Ride
DESCRIPTION:
CATEGORIES:Charity Rides
LOCATION:Monroe County Fairgrounds\, 5700 W Airport Road\, Bloomington\, IN
 \, 47403\, United States
GEO:39.137022;-86.606259
X-APPLE-STRUCTURED-LOCATION;VALUE=URI;X-ADDRESS=5700 W Airport Road\, Bloom
 ington\, IN\, 47403\, United States;X-APPLE-RADIUS=100;X-TITLE=Monroe Coun
 ty Fairgrounds:geo:39.137022,-86.606259
END:VEVENT
BEGIN:VTIMEZONE
TZID:America/Indiana/Indianapolis
X-LIC-LOCATION:America/Indiana/Indianapolis
BEGIN:DAYLIGHT
DTSTART:20230312T030000
TZOFFSETFROM:-0500
TZOFFSETTO:-0400
TZNAME:EDT
END:DAYLIGHT
END:VTIMEZONE
END:VCALENDAR