BEGIN:VCALENDAR
VERSION:2.0
PRODID:-//wp-events-plugin.com//7.2.3.1//EN
TZID:America/Indiana/Indianapolis
X-WR-TIMEZONE:America/Indiana/Indianapolis
BEGIN:VEVENT
UID:81@indianawidowssons.com
DTSTART;TZID=America/Indiana/Indianapolis:20260509T100000
DTEND;TZID=America/Indiana/Indianapolis:20260509T160000
DTSTAMP:20260406T190523Z
URL:https://indianawidowssons.com/events/scarred-souls-blessing-of-the-bik
 es/
SUMMARY:Scarred Souls Blessing of the bikes
DESCRIPTION:\n\n 	Saturday May 9 the Scarred souls will be hosting a Blessi
 ng of the bikes along with a ride afterwards. Location Hancock lodge 101\,
  661 Tauge St. Greenfield Indiana. Registration starts 10 Blessing @ 11:30
  KSU @ noon. Goodwill breakfast by Jobs Daughters 8 a.m. - 11\n
CATEGORIES:Charity Rides
LOCATION:Hancock Lodge 101\, 661 Tague St\, Greenfield\, Indiana\, 46140\, 
 United States
GEO:39.779103;-85.779645
X-APPLE-STRUCTURED-LOCATION;VALUE=URI;X-ADDRESS=661 Tague St\, Greenfield\,
  Indiana\, 46140\, United States;X-APPLE-RADIUS=100;X-TITLE=Hancock Lodge 
 101:geo:39.779103,-85.779645
END:VEVENT
BEGIN:VTIMEZONE
TZID:America/Indiana/Indianapolis
X-LIC-LOCATION:America/Indiana/Indianapolis
BEGIN:DAYLIGHT
DTSTART:20260308T030000
TZOFFSETFROM:-0500
TZOFFSETTO:-0400
TZNAME:EDT
END:DAYLIGHT
END:VTIMEZONE
END:VCALENDAR