BEGIN:VCALENDAR
VERSION:2.0
PRODID:-//wp-events-plugin.com//7.2.3.1//EN
TZID:America/Indiana/Indianapolis
X-WR-TIMEZONE:America/Indiana/Indianapolis
BEGIN:VEVENT
UID:79@indianawidowssons.com
DTSTART;TZID=America/Indiana/Indianapolis:20261010T120000
DTEND;TZID=America/Indiana/Indianapolis:20261010T140000
DTSTAMP:20251201T014803Z
URL:https://indianawidowssons.com/events/presidents-council-october-stated
 -meeting-3/
SUMMARY:Presidents Council October Stated Meeting
DESCRIPTION:
CATEGORIES:Presidents Council
LOCATION:Calvin Prather Masonic Lodge\, 7502 E 56th Street\, Indianapolis\,
  IN\, 46226\, United States
GEO:39.855605;-86.036293
X-APPLE-STRUCTURED-LOCATION;VALUE=URI;X-ADDRESS=7502 E 56th Street\, Indian
 apolis\, IN\, 46226\, United States;X-APPLE-RADIUS=100;X-TITLE=Calvin Prat
 her Masonic Lodge:geo:39.855605,-86.036293
END:VEVENT
BEGIN:VTIMEZONE
TZID:America/Indiana/Indianapolis
X-LIC-LOCATION:America/Indiana/Indianapolis
BEGIN:DAYLIGHT
DTSTART:20260308T030000
TZOFFSETFROM:-0500
TZOFFSETTO:-0400
TZNAME:EDT
END:DAYLIGHT
END:VTIMEZONE
END:VCALENDAR