BEGIN:VCALENDAR
VERSION:2.0
PRODID:-//wp-events-plugin.com//7.2.3.1//EN
TZID:America/Indiana/Indianapolis
X-WR-TIMEZONE:America/Indiana/Indianapolis
BEGIN:VEVENT
UID:80@indianawidowssons.com
DTSTART;TZID=America/Indiana/Indianapolis;VALUE=DATE:20260814
DTEND;TZID=America/Indiana/Indianapolis;VALUE=DATE:20260817
DTSTAMP:20260216T012346Z
URL:https://indianawidowssons.com/events/2026-indiana-widows-sons-state-ra
 lly/
SUMMARY:2026 Indiana Widows Sons State Rally
DESCRIPTION:\nJoin us for the annual Indiana Widows Sons Motorcycle Riders 
 Association State Rally\nDate:\nAugust 14th through 16th\, 2026\n\nEvents:
 \nGrand Master's Ride\nLive Auction\nChinese Auction\nFood\, Fun\, and Fel
 lowship\nWidows Sons Degree\nLadies Night\nEntertainment\, bike games\, an
 d more!\n\nAll registrations include access to the rally\, the rally patch
  and rocker (while supplies last)\, and the Grand Master's Ride.  Those r
 egistering during the pre-registration dates will also receive a free rall
 y t-shirt.\n\nBring your lady and save $20 on registration!  Pre-registra
 tions will receive a shirt for both members of your party.\n\nCamping Deta
 ils:\n\n**NOTE**: All trailer camping registrations must be booked online 
 through the Johnson County Fairgrounds and are on a first come\, first ser
 ved basis.  To book a campsite using our assigned block of sites\, please
  use the group code IWS2026.\n\nPayment information:\n\nPayPal:\nYou will 
 be redirected to the PayPal site for payment.  You do not need a PayPal a
 ccount to complete your payment.\n\nAll online registration prices include
  a service fee for payment processing.
CATEGORIES:Rally
LOCATION:Johnson County Fairgrounds\, 250 Fairground Street\, Franklin\, IN
 \, 46131\, United States
GEO:39.482816;-86.067927
X-APPLE-STRUCTURED-LOCATION;VALUE=URI;X-ADDRESS=250 Fairground Street\, Fra
 nklin\, IN\, 46131\, United States;X-APPLE-RADIUS=100;X-TITLE=Johnson Coun
 ty Fairgrounds:geo:39.482816,-86.067927
END:VEVENT
BEGIN:VTIMEZONE
TZID:America/Indiana/Indianapolis
X-LIC-LOCATION:America/Indiana/Indianapolis
BEGIN:DAYLIGHT
DTSTART:20260308T030000
TZOFFSETFROM:-0500
TZOFFSETTO:-0400
TZNAME:EDT
END:DAYLIGHT
END:VTIMEZONE
END:VCALENDAR